BEGIN:VCALENDAR
VERSION:2.0
PRODID:-//North Sound ACH Resource Library - ECPv6.15.11//NONSGML v1.0//EN
CALSCALE:GREGORIAN
METHOD:PUBLISH
X-ORIGINAL-URL:https://northsoundach.communitycommons.org
X-WR-CALDESC:Events for North Sound ACH Resource Library
REFRESH-INTERVAL;VALUE=DURATION:PT1H
X-Robots-Tag:noindex
X-PUBLISHED-TTL:PT1H
BEGIN:VTIMEZONE
TZID:America/Los_Angeles
BEGIN:DAYLIGHT
TZOFFSETFROM:-0800
TZOFFSETTO:-0700
TZNAME:PDT
DTSTART:20240310T100000
END:DAYLIGHT
BEGIN:STANDARD
TZOFFSETFROM:-0700
TZOFFSETTO:-0800
TZNAME:PST
DTSTART:20241103T090000
END:STANDARD
BEGIN:DAYLIGHT
TZOFFSETFROM:-0800
TZOFFSETTO:-0700
TZNAME:PDT
DTSTART:20250309T100000
END:DAYLIGHT
BEGIN:STANDARD
TZOFFSETFROM:-0700
TZOFFSETTO:-0800
TZNAME:PST
DTSTART:20251102T090000
END:STANDARD
BEGIN:DAYLIGHT
TZOFFSETFROM:-0800
TZOFFSETTO:-0700
TZNAME:PDT
DTSTART:20260308T100000
END:DAYLIGHT
BEGIN:STANDARD
TZOFFSETFROM:-0700
TZOFFSETTO:-0800
TZNAME:PST
DTSTART:20261101T090000
END:STANDARD
END:VTIMEZONE
BEGIN:VEVENT
DTSTART;TZID=America/Los_Angeles:20251118T090000
DTEND;TZID=America/Los_Angeles:20251118T100000
DTSTAMP:20260421T025413
CREATED:20251111T195535Z
LAST-MODIFIED:20251111T195538Z
UID:7495-1763456400-1763460000@northsoundach.communitycommons.org
SUMMARY:WD CBW Opportunity: Reimagining Refugee Care
DESCRIPTION:Workforce Development Opportunity for Community-Based Workers (CBWs)Our Community Hub team has identified this opportunity and wants to share it with those who may be interested. Please note: opportunities shared may vary in cost — some are free\, while others may have a fee. \nKey details about this event: This webinar will explore the evolving refugee landscape\, including federal and state policy shifts\, and highlight best practices in refugee-centered health care. See more details by clicking here. \nCost: Free\, with CEU available \nHave an opportunity that you’d like to share? Connect with our Workforce Development Manager Mario at MarioB@NorthSoundACH.org.
URL:https://northsoundach.communitycommons.org/event/wd-cbw-opportunity-reimagining-refugee-care/
END:VEVENT
END:VCALENDAR