BEGIN:VCALENDAR
VERSION:2.0
PRODID:-//North Sound ACH Resource Library - ECPv6.15.11//NONSGML v1.0//EN
CALSCALE:GREGORIAN
METHOD:PUBLISH
X-ORIGINAL-URL:https://northsoundach.communitycommons.org
X-WR-CALDESC:Events for North Sound ACH Resource Library
REFRESH-INTERVAL;VALUE=DURATION:PT1H
X-Robots-Tag:noindex
X-PUBLISHED-TTL:PT1H
BEGIN:VTIMEZONE
TZID:America/Los_Angeles
BEGIN:DAYLIGHT
TZOFFSETFROM:-0800
TZOFFSETTO:-0700
TZNAME:PDT
DTSTART:20240310T100000
END:DAYLIGHT
BEGIN:STANDARD
TZOFFSETFROM:-0700
TZOFFSETTO:-0800
TZNAME:PST
DTSTART:20241103T090000
END:STANDARD
BEGIN:DAYLIGHT
TZOFFSETFROM:-0800
TZOFFSETTO:-0700
TZNAME:PDT
DTSTART:20250309T100000
END:DAYLIGHT
BEGIN:STANDARD
TZOFFSETFROM:-0700
TZOFFSETTO:-0800
TZNAME:PST
DTSTART:20251102T090000
END:STANDARD
BEGIN:DAYLIGHT
TZOFFSETFROM:-0800
TZOFFSETTO:-0700
TZNAME:PDT
DTSTART:20260308T100000
END:DAYLIGHT
BEGIN:STANDARD
TZOFFSETFROM:-0700
TZOFFSETTO:-0800
TZNAME:PST
DTSTART:20261101T090000
END:STANDARD
END:VTIMEZONE
BEGIN:VEVENT
DTSTART;TZID=America/Los_Angeles:20251119T100000
DTEND;TZID=America/Los_Angeles:20251119T120000
DTSTAMP:20260419T075540
CREATED:20250930T171041Z
LAST-MODIFIED:20251118T202610Z
UID:7303-1763546400-1763553600@northsoundach.communitycommons.org
SUMMARY:November Learning Session - Disability Advocacy
DESCRIPTION:Join us for a community-led forum on disability advocacy\, designed to strengthen visibility\, equity\, and inclusion for disabled people across workplaces and communities. Through panel discussion and audience engagement\, we’ll highlight practices that anticipate accessibility from the start\, elevate the wisdom of disabled communities\, and spark cross-sector collaboration.  \nThis session is an opportunity to learn\, connect\, and commit to building communities where everyone can thrive\, all are welcomed. Register today by clicking here! \nIf you have any questions please connect with Keiko at Keiko@NorthSoundACH.org
URL:https://northsoundach.communitycommons.org/event/network-learning-sessions-2/
LOCATION:Zoom
END:VEVENT
END:VCALENDAR